BEGIN:VCALENDAR
VERSION:2.0
PRODID:-//Vigilância em Saúde - ECPv6.5.0//NONSGML v1.0//EN
CALSCALE:GREGORIAN
METHOD:PUBLISH
X-WR-CALNAME:Vigilância em Saúde
X-ORIGINAL-URL:https://vigilancia.saude.pa.gov.br
X-WR-CALDESC:Eventos para Vigilância em Saúde
REFRESH-INTERVAL;VALUE=DURATION:PT1H
X-Robots-Tag:noindex
X-PUBLISHED-TTL:PT1H
BEGIN:VTIMEZONE
TZID:America/Sao_Paulo
BEGIN:STANDARD
TZOFFSETFROM:-0300
TZOFFSETTO:-0300
TZNAME:-03
DTSTART:20230101T000000
END:STANDARD
END:VTIMEZONE
BEGIN:VEVENT
DTSTART;TZID=America/Sao_Paulo:20230424T080000
DTEND;TZID=America/Sao_Paulo:20230428T170000
DTSTAMP:20260421T222146
CREATED:20230316T174139Z
LAST-MODIFIED:20230316T191117Z
UID:393-1682323200-1682701200@vigilancia.saude.pa.gov.br
SUMMARY:Treinamento do SINAN
DESCRIPTION:Capacitação no sistema de informação de agravos de notificação – SINAN visando melhoria da qualidade dos dados notificados e investigados. \n 
URL:https://vigilancia.saude.pa.gov.br/event/treinamento-do-sinan/
LOCATION:4º Centro Regional de Saúde – Capanema\, Tv. Miguel Leite\, Capanema\, Pará\, 68700-210\, Brasil
CATEGORIES:Diretoria de Vigilância em Saúde
ORGANIZER;CN="N%C3%BAcleo de Informa%C3%A7%C3%A3o em Vigil%C3%A2ncia em Sa%C3%BAde":MAILTO:nivs.pa@gmail.com
END:VEVENT
END:VCALENDAR