BEGIN:VCALENDAR
VERSION:2.0
PRODID:-//Vigilância em Saúde - ECPv6.5.0//NONSGML v1.0//EN
CALSCALE:GREGORIAN
METHOD:PUBLISH
X-ORIGINAL-URL:https://vigilancia.saude.pa.gov.br
X-WR-CALDESC:Eventos para Vigilância em Saúde
REFRESH-INTERVAL;VALUE=DURATION:PT1H
X-Robots-Tag:noindex
X-PUBLISHED-TTL:PT1H
BEGIN:VTIMEZONE
TZID:America/Sao_Paulo
BEGIN:STANDARD
TZOFFSETFROM:-0300
TZOFFSETTO:-0300
TZNAME:-03
DTSTART:20240101T000000
END:STANDARD
END:VTIMEZONE
BEGIN:VEVENT
DTSTART;VALUE=DATE:20240610
DTEND;VALUE=DATE:20240615
DTSTAMP:20260421T022043
CREATED:20240606T181110Z
LAST-MODIFIED:20240606T181110Z
UID:1294-1717977600-1718409599@vigilancia.saude.pa.gov.br
SUMMARY:Treinamento SIM
DESCRIPTION:Oiiiiiiiiiii
URL:https://vigilancia.saude.pa.gov.br/event/treinamento-sim/
LOCATION:Sala de Informatica SESPA\, Lomas\, Belém\, PA\, 66093050\, Brasil
ORGANIZER;CN="N%C3%BAcleo de Informa%C3%A7%C3%A3o em Vigil%C3%A2ncia em Sa%C3%BAde":MAILTO:nivs.pa@gmail.com
END:VEVENT
BEGIN:VEVENT
DTSTART;VALUE=DATE:20240617
DTEND;VALUE=DATE:20240622
DTSTAMP:20260421T022043
CREATED:20240614T131031Z
LAST-MODIFIED:20240614T132950Z
UID:1388-1718582400-1719014399@vigilancia.saude.pa.gov.br
SUMMARY:Treinamento de Power BI Desktop
DESCRIPTION:Treinamento de Power BI Desktop\nInstrutor: Marcos Silva
URL:https://vigilancia.saude.pa.gov.br/event/treinamento-de-power-bi-desktop/
LOCATION:Sala de Informatica SESPA\, Lomas\, Belém\, PA\, 66093050\, Brasil
CATEGORIES:Diretoria de Vigilância em Saúde
ORGANIZER;CN="N%C3%BAcleo de Informa%C3%A7%C3%A3o em Vigil%C3%A2ncia em Sa%C3%BAde":MAILTO:nivs.pa@gmail.com
END:VEVENT
BEGIN:VEVENT
DTSTART;VALUE=DATE:20240617
DTEND;VALUE=DATE:20240622
DTSTAMP:20260421T022043
CREATED:20240614T132116Z
LAST-MODIFIED:20240614T132116Z
UID:1392-1718582400-1719014399@vigilancia.saude.pa.gov.br
SUMMARY:treinamento sisdia
DESCRIPTION:oiii
URL:https://vigilancia.saude.pa.gov.br/event/treinamento-sisdia/
LOCATION:Sala de Informatica SESPA\, Lomas\, Belém\, PA\, 66093050\, Brasil
CATEGORIES:Diretoria de Vigilância em Saúde
ORGANIZER;CN="N%C3%BAcleo de Informa%C3%A7%C3%A3o em Vigil%C3%A2ncia em Sa%C3%BAde":MAILTO:nivs.pa@gmail.com
END:VEVENT
BEGIN:VEVENT
DTSTART;TZID=America/Sao_Paulo:20240617T133000
DTEND;TZID=America/Sao_Paulo:20240621T170000
DTSTAMP:20260421T022043
CREATED:20240614T131653Z
LAST-MODIFIED:20240614T131801Z
UID:1390-1718631000-1718989200@vigilancia.saude.pa.gov.br
SUMMARY:Capacitação
DESCRIPTION:OIII
URL:https://vigilancia.saude.pa.gov.br/event/capacitacao/
LOCATION:Sala de Informatica SESPA\, Lomas\, Belém\, PA\, 66093050\, Brasil
CATEGORIES:Diretoria de Vigilância em Saúde
ORGANIZER;CN="Conselho Nacional de Secret%C3%A1rio de Sa%C3%BAde (CONASS)":MAILTO:ascom@conass.org.br
END:VEVENT
END:VCALENDAR